BEGIN:VCALENDAR
PRODID:RAVE.CA V17.0
X-WR-CALNAME:Psybass The 13th: Edition 6.66
X-ORIGINAL-URL:https://www.rave.ca/event/24418/
VERSION:2.0
CALSCALE:GREGORIAN
METHOD:PUBLISH
BEGIN:VEVENT
DTSTAMP:20091120T165312Z
LAST-MODIFIED:20091120T165312Z
CREATED:20090125T161939Z
SEQUENCE:24418
ORGANIZER:Beat Concierge
DTSTART:20091113T210000Z
DTEND:20091113T030000Z
UID:event_24418@rave.ca
SUMMARY:Psybass The 13th: Edition 6.66
LOCATION:Bain Mathieu
URL:https://www.rave.ca/event/24418/
DESCRIPTION:Présenté par Travel Spirit /Spak & Beat Concierge\, Vendredi 13 Novembre prochain aura lieu pour une 6 ième édition \, Psybass the 13th. Depuis maintenant 4 ans\,chaque vendredi 13 sont fetes au Bain Mathieu avec 2 ambiances totalement différentes. \n\n\n\nPorte: 6$ avant 22hrs \n       10$ Après 22hrs\n\nbeers: 3.50$\n::Circus performances::\n\nOù? : Bain Mathieu\, 2915 Ontario Est\, Métro Frontenac\nQuand?:Vendredi 13 Novembre 2009
CLASS:PUBLIC
CATEGORIES:
STATUS:CONFIRMED
PARTSTAT:ACCEPTED
END:VEVENT
END:VCALENDAR
