BEGIN:VCALENDAR
PRODID:RAVE.CA V17.0
X-WR-CALNAME:Ntk Party
X-ORIGINAL-URL:https://www.rave.ca/event/24176/
VERSION:2.0
CALSCALE:GREGORIAN
METHOD:PUBLISH
BEGIN:VEVENT
DTSTAMP:20090224T192915Z
LAST-MODIFIED:20090224T192915Z
CREATED:20090121T125735Z
SEQUENCE:24176
ORGANIZER:Unknown
DTSTART:20090227T220000Z
DTEND:20090228T030000Z
UID:event_24176@rave.ca
SUMMARY:Ntk Party
LOCATION:Unknown
URL:https://www.rave.ca/event/24176/
DESCRIPTION:Soirée NTK dans un bar\n\nMore infos later
CLASS:PUBLIC
CATEGORIES:
STATUS:CONFIRMED
PARTSTAT:ACCEPTED
END:VEVENT
END:VCALENDAR
