BEGIN:VCALENDAR
PRODID:RAVE.CA V17.0
X-WR-CALNAME:Syndrome Neurotik
X-ORIGINAL-URL:https://www.rave.ca/event/2402/
VERSION:2.0
CALSCALE:GREGORIAN
METHOD:PUBLISH
BEGIN:VEVENT
DTSTAMP:20040428T000000Z
LAST-MODIFIED:20040428T000000Z
CREATED:20040406T000000Z
SEQUENCE:2402
ORGANIZER:Neurotik Sound  System
DTSTART:20040428T000000Z
DTEND:20040428T000000Z
UID:event_2402@rave.ca
SUMMARY:Syndrome Neurotik
LOCATION:Syndrome\, Club
URL:https://www.rave.ca/event/2402/
DESCRIPTION:Soiree HARDTEK tonite at Club Syndrome! Neurotik Crew + Guests: D'n'B\, Breaks\, Hardcore and Jungle. 11\,000 Watt Sound-System! Biere pas chere...
CLASS:PUBLIC
CATEGORIES:
STATUS:CONFIRMED
PARTSTAT:ACCEPTED
END:VEVENT
END:VCALENDAR
