BEGIN:VCALENDAR
PRODID:RAVE.CA V17.0
X-WR-CALNAME:A Voice Of The Underground
X-ORIGINAL-URL:https://www.rave.ca/event/23896/
VERSION:2.0
CALSCALE:GREGORIAN
METHOD:PUBLISH
BEGIN:VEVENT
DTSTAMP:20090103T025037Z
LAST-MODIFIED:20090103T025037Z
CREATED:20081230T020226Z
SEQUENCE:23896
ORGANIZER:Deadna Productions
DTSTART:20090102T020000Z
DTEND:20090102T070000Z
UID:event_23896@rave.ca
SUMMARY:A Voice Of The Underground
LOCATION:Unknown
URL:https://www.rave.ca/event/23896/
DESCRIPTION:RADIO show\, airs the 1st Friday night of each month\, from 2am until 7am Saturday morning. In Montreal\, on the dial: 102.3 FM. Worldwide on the 'net: radiocentreville.com\n\nMusic: Hardcore techno and related (HC\,breakcore\,speedcore\,gabber\,doomcore\,industrial\,noise\,dark'n'hard d'n'b\,hardtech\, etc.)\n\nHost/Dj: Nā
CLASS:PUBLIC
CATEGORIES:
STATUS:CONFIRMED
PARTSTAT:ACCEPTED
END:VEVENT
END:VCALENDAR
