BEGIN:VCALENDAR
PRODID:RAVE.CA V17.0
X-WR-CALNAME:Fucked Up, Aids Wolf, Red Mass
X-ORIGINAL-URL:https://www.rave.ca/event/23668/
VERSION:2.0
CALSCALE:GREGORIAN
METHOD:PUBLISH
BEGIN:VEVENT
DTSTAMP:20090114T103628Z
LAST-MODIFIED:20090114T103628Z
CREATED:20081206T153914Z
SEQUENCE:23668
ORGANIZER:Unknown
DTSTART:20090117T180000Z
DTEND:20090117T180000Z
UID:event_23668@rave.ca
SUMMARY:Fucked Up\, Aids Wolf\, Red Mass
LOCATION:Sala Rossa\, La
URL:https://www.rave.ca/event/23668/
DESCRIPTION:$12.00 advance\n$15.00 door\n\nspecial secret guest openers TBA.\n\nhttp://www.blueskiesturnblack.com/
CLASS:PUBLIC
CATEGORIES:
STATUS:CONFIRMED
PARTSTAT:ACCEPTED
END:VEVENT
END:VCALENDAR
