BEGIN:VCALENDAR
PRODID:RAVE.CA V17.0
X-WR-CALNAME:Morning Glory
X-ORIGINAL-URL:https://www.rave.ca/event/23123/
VERSION:2.0
CALSCALE:GREGORIAN
METHOD:PUBLISH
BEGIN:VEVENT
DTSTAMP:20090427T183649Z
LAST-MODIFIED:20090427T183649Z
CREATED:20081121T102617Z
SEQUENCE:23123
ORGANIZER:Flow Productions
DTSTART:20090516T210000Z
DTEND:20090517T090000Z
UID:event_23123@rave.ca
SUMMARY:Morning Glory
LOCATION:Unknown
URL:https://www.rave.ca/event/23123/
DESCRIPTION:Ouverture des portes à 20h\nPrésente a la coopérative Méduse\n591\,Saint-Vallier est\nInfo-ligne 24: 418-561-5146\nhttp://www.myspace.com/flowproductionsquebec
CLASS:PUBLIC
CATEGORIES:
STATUS:CONFIRMED
PARTSTAT:ACCEPTED
END:VEVENT
END:VCALENDAR
