BEGIN:VCALENDAR
PRODID:RAVE.CA V17.0
X-WR-CALNAME:Eresys: Mono-Poly, Le Boucher, Baya &amp; Dessureault
X-ORIGINAL-URL:https://www.rave.ca/event/22540/
VERSION:2.0
CALSCALE:GREGORIAN
METHOD:PUBLISH
BEGIN:VEVENT
DTSTAMP:20081106T181522Z
LAST-MODIFIED:20081106T181522Z
CREATED:20081106T181510Z
SEQUENCE:22540
ORGANIZER:Unknown
DTSTART:20081122T200000Z
DTEND:20081122T200000Z
UID:event_22540@rave.ca
SUMMARY:Eresys: Mono-Poly\, Le Boucher\, Baya & Dessureault
LOCATION:Salon Daome
URL:https://www.rave.ca/event/22540/
DESCRIPTION:
CLASS:PUBLIC
CATEGORIES:
STATUS:CONFIRMED
PARTSTAT:ACCEPTED
END:VEVENT
END:VCALENDAR
