BEGIN:VCALENDAR
PRODID:RAVE.CA V17.0
X-WR-CALNAME:Freaktion: Moso Vs Nuclear Ramjet, Osg, Tenzin, Rikam
X-ORIGINAL-URL:https://www.rave.ca/event/22531/
VERSION:2.0
CALSCALE:GREGORIAN
METHOD:PUBLISH
BEGIN:VEVENT
DTSTAMP:20081126T212130Z
LAST-MODIFIED:20081126T212130Z
CREATED:20081106T121102Z
SEQUENCE:22531
ORGANIZER:Unknown
DTSTART:20081129T210000Z
DTEND:20081130T030000Z
UID:event_22531@rave.ca
SUMMARY:Freaktion: Moso Vs Nuclear Ramjet\, Osg\, Tenzin\, Rikam
LOCATION:Gymnase\, Le
URL:https://www.rave.ca/event/22531/
DESCRIPTION:Dans le cadre d'un cours en organisation d'évènements \, notre équipe\, composée de 8 filles et 1 gars qui partagent la même passion\, vous présente comme projet final: FREAKTION!\n\nNotre but est de promouvoir le pouvoir des artistes de Montréal! Cette évènement est sans but lucratif! Tous les profits seront redistribués aux artistes invités.\n\nVenez encouragez la scène Local sur le Dance Floor du club \nLE GYMNASE\nSAMEDI 29 NOVEMBRE 2008  \n9 P.M À 3 A.M
CLASS:PUBLIC
CATEGORIES:
STATUS:CONFIRMED
PARTSTAT:ACCEPTED
END:VEVENT
END:VCALENDAR
