BEGIN:VCALENDAR
PRODID:RAVE.CA V17.0
X-WR-CALNAME:The Freak Show
X-ORIGINAL-URL:https://www.rave.ca/event/2217/
VERSION:2.0
CALSCALE:GREGORIAN
METHOD:PUBLISH
BEGIN:VEVENT
DTSTAMP:20040813T000000Z
LAST-MODIFIED:20040813T000000Z
CREATED:20040218T000000Z
SEQUENCE:2217
ORGANIZER:Freak Patrol
DTSTART:20040320T010000Z
DTEND:20040320T010000Z
UID:event_2217@rave.ca
SUMMARY:The Freak Show
LOCATION:La Galerie Rouje
URL:https://www.rave.ca/event/2217/
DESCRIPTION:Première des soirées mensuelle de Freak Patrol \; Le Freak Show.  Au menu\, des sonorités urbaines et des rythmes actuelles\, le tout avec aux platines. Vj du mois: Vasco\n\nLe tout dans le cadre génial et décontract de la Galerie Rouje\, sur St-Joseph au Centre ville.  2 pour 1 sur la Boréal avant 11h30\n\nR U Freak ???\n
CLASS:PUBLIC
CATEGORIES:
STATUS:CONFIRMED
PARTSTAT:ACCEPTED
END:VEVENT
END:VCALENDAR
