BEGIN:VCALENDAR
PRODID:RAVE.CA V17.0
X-WR-CALNAME:Forward Music Loves Kiffah, Recoil And Db Vaig
X-ORIGINAL-URL:https://www.rave.ca/event/22063/
VERSION:2.0
CALSCALE:GREGORIAN
METHOD:PUBLISH
BEGIN:VEVENT
DTSTAMP:20081223T215745Z
LAST-MODIFIED:20081223T215745Z
CREATED:20081014T231129Z
SEQUENCE:22063
ORGANIZER:Forward Music Montreal
DTSTART:20081113T220000Z
DTEND:20081114T030000Z
UID:event_22063@rave.ca
SUMMARY:Forward Music Loves Kiffah\, Recoil And Db Vaig
LOCATION:Passeport\, Club
URL:https://www.rave.ca/event/22063/
DESCRIPTION:** FORWARD MUSIC **\n\nForward-thinking underground music... FUTURE MUSIC !\n\nEvery thursday\, at the brand spanking new Passeport Club\, 2037 St-Denis street !\n\nThe very best GRIME\, DUBSTEP and DRUM & BASS dj's this city has to offer.\n\nRadically upfront.... relentlessly progressive !
CLASS:PUBLIC
CATEGORIES:
STATUS:CONFIRMED
PARTSTAT:ACCEPTED
END:VEVENT
END:VCALENDAR
