BEGIN:VCALENDAR
PRODID:RAVE.CA V17.0
X-WR-CALNAME:The Deepes Tribal Night-La Soiree Deep Tribal
X-ORIGINAL-URL:https://www.rave.ca/event/21934/
VERSION:2.0
CALSCALE:GREGORIAN
METHOD:PUBLISH
BEGIN:VEVENT
DTSTAMP:20081110T120030Z
LAST-MODIFIED:20081110T120030Z
CREATED:20081010T005328Z
SEQUENCE:21934
ORGANIZER:Unknown
DTSTART:20081115T210000Z
DTEND:20081116T030000Z
UID:event_21934@rave.ca
SUMMARY:The Deepes Tribal Night-La Soiree Deep Tribal
LOCATION:Lanjeu
URL:https://www.rave.ca/event/21934/
DESCRIPTION:DJ VYKTOR ZAA FEAT THE JUNGLE DRUMS (LALO-CUBA)\nECUTE CKOI
CLASS:PUBLIC
CATEGORIES:
STATUS:CONFIRMED
PARTSTAT:ACCEPTED
END:VEVENT
END:VCALENDAR
