BEGIN:VCALENDAR
PRODID:RAVE.CA V17.0
X-WR-CALNAME:Music &amp; Friends
X-ORIGINAL-URL:https://www.rave.ca/event/21894/
VERSION:2.0
CALSCALE:GREGORIAN
METHOD:PUBLISH
BEGIN:VEVENT
DTSTAMP:20081024T154248Z
LAST-MODIFIED:20081024T154248Z
CREATED:20081008T120040Z
SEQUENCE:21894
ORGANIZER:Unknown
DTSTART:20081025T220000Z
DTEND:20081025T220000Z
UID:event_21894@rave.ca
SUMMARY:Music & Friends
LOCATION:Sonar
URL:https://www.rave.ca/event/21894/
DESCRIPTION:lancement des soirées Techno.fm (internet techno & house musique) \n\nline-up:\nBastian\, Techno.fm\, Qc\nJAMES DIAMOND\, Techno.fm\, San-Fransisco\nM.I.M.\, Musique & Friends\, Qc
CLASS:PUBLIC
CATEGORIES:
STATUS:CONFIRMED
PARTSTAT:ACCEPTED
END:VEVENT
END:VCALENDAR
