BEGIN:VCALENDAR
PRODID:RAVE.CA V17.0
X-WR-CALNAME:Ntk: Free Party: I&#039;m On The Guest List
X-ORIGINAL-URL:https://www.rave.ca/event/21842/
VERSION:2.0
CALSCALE:GREGORIAN
METHOD:PUBLISH
BEGIN:VEVENT
DTSTAMP:20081006T161959Z
LAST-MODIFIED:20081006T161959Z
CREATED:20081001T221639Z
SEQUENCE:21842
ORGANIZER:Neurotik Sound  System
DTSTART:20081003T230000Z
DTEND:20081004T100000Z
UID:event_21842@rave.ca
SUMMARY:Ntk: Free Party: I'm On The Guest List
LOCATION:Unknown
URL:https://www.rave.ca/event/21842/
DESCRIPTION:Soirée Hardtek\, Tekno\, BreakBeat\, Full on\, DnB\, Un bon mélange de bass pour réchauffer les oreilles au clair de lune...\n\nALORS FOUS TA CAGOULE ET FOUS L'BORDEL !!!
CLASS:PUBLIC
CATEGORIES:
STATUS:CONFIRMED
PARTSTAT:ACCEPTED
END:VEVENT
END:VCALENDAR
