BEGIN:VCALENDAR
PRODID:RAVE.CA V17.0
X-WR-CALNAME:Forward Music B-Day Bash!
X-ORIGINAL-URL:https://www.rave.ca/event/21802/
VERSION:2.0
CALSCALE:GREGORIAN
METHOD:PUBLISH
BEGIN:VEVENT
DTSTAMP:20081223T215701Z
LAST-MODIFIED:20081223T215701Z
CREATED:20081001T164451Z
SEQUENCE:21802
ORGANIZER:Forward Music Montreal
DTSTART:20081023T220000Z
DTEND:20081024T030000Z
UID:event_21802@rave.ca
SUMMARY:Forward Music B-Day Bash!
LOCATION:Passeport\, 2037 St-Denis
URL:https://www.rave.ca/event/21802/
DESCRIPTION:** FORWARD MUSIC **\n\nForward-thinking underground music... FUTURE MUSIC !\n\nEvery thursday\, at the brand spanking new Passeport Club\, 2037 St-Denis street !\n\nThe very best GRIME\, ELECTRO and DRUM & BASS dj's this city has to offer.\n\nRadically upfront.... relentlessly progressive !\n\nGET THE PODCAST: http://www.squidcom.net/forwardmusicmtl/forwardmusicmontreal.rss
CLASS:PUBLIC
CATEGORIES:
STATUS:CONFIRMED
PARTSTAT:ACCEPTED
END:VEVENT
END:VCALENDAR
