BEGIN:VCALENDAR
PRODID:RAVE.CA V17.0
X-WR-CALNAME:Ferry Corsten
X-ORIGINAL-URL:https://www.rave.ca/event/2170/
VERSION:2.0
CALSCALE:GREGORIAN
METHOD:PUBLISH
BEGIN:VEVENT
DTSTAMP:20040201T000000Z
LAST-MODIFIED:20040201T000000Z
CREATED:20040201T000000Z
SEQUENCE:2170
ORGANIZER:Unknown
DTSTART:20040312T000000Z
DTEND:20040312T000000Z
UID:event_2170@rave.ca
SUMMARY:Ferry Corsten
LOCATION:Aria\, Afterhours
URL:https://www.rave.ca/event/2170/
DESCRIPTION:
CLASS:PUBLIC
CATEGORIES:
STATUS:CONFIRMED
PARTSTAT:ACCEPTED
END:VEVENT
END:VCALENDAR
