BEGIN:VCALENDAR
PRODID:RAVE.CA V17.0
X-WR-CALNAME:Friday The 13th: Part 4
X-ORIGINAL-URL:https://www.rave.ca/event/2148/
VERSION:2.0
CALSCALE:GREGORIAN
METHOD:PUBLISH
BEGIN:VEVENT
DTSTAMP:20040130T000000Z
LAST-MODIFIED:20040130T000000Z
CREATED:20040130T000000Z
SEQUENCE:2148
ORGANIZER:Unknown
DTSTART:20040213T000000Z
DTEND:20040213T000000Z
UID:event_2148@rave.ca
SUMMARY:Friday The 13th: Part 4
LOCATION:Cube Afterhours
URL:https://www.rave.ca/event/2148/
DESCRIPTION:Main Hardcore Room\n\n1h: MERKU vs THOR // kanibalz [qc] vs center rec. [mtl]\n4h: AZATOTH (live act) // corrupted suburbs [qc]\n5h: VOLKANO // kanibalz [qc]\n7h: PSYKO LePUNK // stone krew records [mtl] \n\nValentine Lounge\n\n2h: LADY LOVELY // i.a. management [mtl]\n4h: LADY MARIA // engine prod. [qc] \n6h: INSOMNIA // female spin\, r.a.m [mtl]\n\n---
CLASS:PUBLIC
CATEGORIES:
STATUS:CONFIRMED
PARTSTAT:ACCEPTED
END:VEVENT
END:VCALENDAR
