BEGIN:VCALENDAR
PRODID:RAVE.CA V17.0
X-WR-CALNAME:La Terre Danse
X-ORIGINAL-URL:https://www.rave.ca/event/21327/
VERSION:2.0
CALSCALE:GREGORIAN
METHOD:PUBLISH
BEGIN:VEVENT
DTSTAMP:20081010T020625Z
LAST-MODIFIED:20081010T020625Z
CREATED:20080909T220123Z
SEQUENCE:21327
ORGANIZER:Unknown
DTSTART:20081011T210000Z
DTEND:20081011T210000Z
UID:event_21327@rave.ca
SUMMARY:La Terre Danse
LOCATION:Unknown
URL:https://www.rave.ca/event/21327/
DESCRIPTION:Pour la premiere fois depuis Intense II et le 1er Kats\, les djanes prendront le controle du mixer a l'Action de Grace\, cette fete des recoltes celebrant la nature\, \;a vie et la musique. La terre danse et la foret parle\, ecoutons les...\n\n21h00 BoomTara\n22h30 Semira\n00h00 Pixie\n01h30 Absolute\n03h00: Mohinia\n04h30 Makinaw\n06h00 Longstocking\n\nVisuels par Princess Coco \n-Décoration & string art par Rosa Luna\n-Conception graphique par Jujube\n-Peintures corporelles par Étincelle \n-Massages sensoriels par Gael Elfe \n\nVoici le site web pour de plus amples informations www.old-school.ca\nOn peut également appeler au 418.621.6000 (ligne info 24h)\n\n\n La touche féminine est omniprésente dans toutes les étapes de la réalisation de l’événement : outre la musique et les images\, c’est l’infographie\, la photographie et la décoration\, la distribution de fruits\, les maquillages corporels et bien d’autres ressources créatives à découvrir sur place. Forte d’une chimie naturelle entre elles\, ces femmes portent bien haut l’étendard du djing féminin.
CLASS:PUBLIC
CATEGORIES:
STATUS:CONFIRMED
PARTSTAT:ACCEPTED
END:VEVENT
END:VCALENDAR
