BEGIN:VCALENDAR
PRODID:RAVE.CA V17.0
X-WR-CALNAME:Ko 1er Anniverssaire De Résidence
X-ORIGINAL-URL:https://www.rave.ca/event/21194/
VERSION:2.0
CALSCALE:GREGORIAN
METHOD:PUBLISH
BEGIN:VEVENT
DTSTAMP:20080927T180013Z
LAST-MODIFIED:20080927T180013Z
CREATED:20080906T175645Z
SEQUENCE:21194
ORGANIZER:Unknown
DTSTART:20081010T220000Z
DTEND:20081011T030000Z
UID:event_21194@rave.ca
SUMMARY:Ko 1er Anniverssaire De Résidence
LOCATION:Petit Campus
URL:https://www.rave.ca/event/21194/
DESCRIPTION:Soirée mensuelle drum n bass\n1er anniverssaire de résidence au Petit Campus.\navec djs:\nGolgo13 (Beat Concierge)\nGeneric & MC Qubiq (set de 2hrs)\nMark Van J\nSourultrafast (6 feet high)\nvj Kai\n\nau Petit Campus 57 Prince Arthur est.\nentrée 5$
CLASS:PUBLIC
CATEGORIES:
STATUS:CONFIRMED
PARTSTAT:ACCEPTED
END:VEVENT
END:VCALENDAR
