BEGIN:VCALENDAR
PRODID:RAVE.CA V17.0
X-WR-CALNAME:Forward Music: Fishead
X-ORIGINAL-URL:https://www.rave.ca/event/20804/
VERSION:2.0
CALSCALE:GREGORIAN
METHOD:PUBLISH
BEGIN:VEVENT
DTSTAMP:20081223T215458Z
LAST-MODIFIED:20081223T215458Z
CREATED:20080825T222622Z
SEQUENCE:20804
ORGANIZER:Forward Music Montreal
DTSTART:20080911T220000Z
DTEND:20080912T030000Z
UID:event_20804@rave.ca
SUMMARY:Forward Music: Fishead
LOCATION:Passeport\, Club
URL:https://www.rave.ca/event/20804/
DESCRIPTION:** FORWARD MUSIC **\n\nForward-thinking underground music... FUTURE MUSIC !\n\nEvery thursday\, at the brand spanking new Passeport Club\, 2037 St-Denis street !\n\nThe very best DUBSTEP\, GRIME\, BREAKBEAT and DRUM & BASS dj's this city has to offer.\n\nRadically upfront.... relentlessly progressive !\n\nGET THE PODCAST: http://www.squidcom.net/forwardmusicmtl/forwardmusicmontreal.rss
CLASS:PUBLIC
CATEGORIES:
STATUS:CONFIRMED
PARTSTAT:ACCEPTED
END:VEVENT
END:VCALENDAR
