BEGIN:VCALENDAR
PRODID:RAVE.CA V17.0
X-WR-CALNAME:Eresys
X-ORIGINAL-URL:https://www.rave.ca/event/20652/
VERSION:2.0
CALSCALE:GREGORIAN
METHOD:PUBLISH
BEGIN:VEVENT
DTSTAMP:20080913T210314Z
LAST-MODIFIED:20080913T210314Z
CREATED:20080819T204014Z
SEQUENCE:20652
ORGANIZER:Eresys
DTSTART:20080913T220000Z
DTEND:20080913T030000Z
UID:event_20652@rave.ca
SUMMARY:Eresys
LOCATION:Salon Daome
URL:https://www.rave.ca/event/20652/
DESCRIPTION:ERESYS AT "LE SALON DAOMÉ" \npresent : Kasteniede & Le Boucher\, \nTechnomatic DJ's Tag and visual \ninstallations by Mixar & Jérome D. \nAT LE SALON DAOMÉ\, MONTREAL \nFRIDAY\, SEPTEMBER 12\, 22H-3H \n\nMUSIC \nPEPEEZE\, FLORYD & SERGENT JOLY \n(DJ's Tag) // Technomatic \nMontréal\, Canada \n\nKASTENIEDE \n(DJ) // Eresys \nMontréal\, Canada \n\nLE BOUCHER \n(DJ) // Eresys \nMontréal\, Canada \n\nVISUAL \nMIXAR \n(VJ) // Eresys \nMontréal\, Canada \nJEROME DELAPIERRE \n(VJ) // Montréal\, Canada \n\n\nOTHER REFERENCES \nwww.technomatic.net \n\n\nLOCATION \nLe Salon Daomé\n141 Mont-Royal est\, Montreal\, QC\, Canada \, Metro : Mont-Royal Station\, \n\nPRICE \n8 $
CLASS:PUBLIC
CATEGORIES:
STATUS:CONFIRMED
PARTSTAT:ACCEPTED
END:VEVENT
END:VCALENDAR
