BEGIN:VCALENDAR
PRODID:RAVE.CA V17.0
X-WR-CALNAME:Toy Company 2: Xyno, Xc3n
X-ORIGINAL-URL:https://www.rave.ca/event/20563/
VERSION:2.0
CALSCALE:GREGORIAN
METHOD:PUBLISH
BEGIN:VEVENT
DTSTAMP:20080912T165150Z
LAST-MODIFIED:20080912T165150Z
CREATED:20080815T161340Z
SEQUENCE:20563
ORGANIZER:Unknown
DTSTART:20080912T200000Z
DTEND:20080912T200000Z
UID:event_20563@rave.ca
SUMMARY:Toy Company 2: Xyno\, Xc3n
LOCATION:Zoobizarre
URL:https://www.rave.ca/event/20563/
DESCRIPTION:Toy Company 2 : Zoobizarre 6388 St-Hubert\nFriday\, September 12th\, 2008| Doors 21:00 Show 22:00\n5$\n\nGameboys\, commodores\, toasters\, whatever let's just make retro music. TC is a randomly occurring chiptune/core lo-fi electro hardcore event. Bringing artists from differents scenes into creating some dancy techno.\n\nLeave the glowsticks at home. Bring them powergloves.\n\nXyno ( Chiptune )\nI am born in the morning of May 3rd in 88'\, I live in the present and will certainly die in the future... My music adventure actually began about 1 1/2 years ago when I discover that I was able to play drums on my numeric keypad in a shitty software called blablablawtvr It'll kick ass !!!!\n\nXC3N ( Chipcore )\nM057 L33T 50UND H4X0R\n\nUn Canard ( Chiptune | Happy Hardcore )\nis a singular broad-billed bird\, who once began to make chiptunes as a way to satisfy his need for intensity (seeing as how flapping around in a pond wouldn't do it). His music is the product of countless hours of procrastination while thinking about space and animals and happiness\, seeking to trigger especially the warmest feelings.\n\nAliceffekt ( Chipcore | Industrial )\nMALICE å®³æ is the visual kei\, chiptune-centric side project of industrial artist Aliceffekt. Utilizing sounds from circuit bent Game Boys\, MALICE is hard-hitting chiptune dance tracks punctuated by speaker-destroying passages of speedcore and threaded through-out with sparkling IDM melodies.\n\nVj Pocaille ( )\nPocaille gonna make your eyes bleed to death with some live remix of old school gameplay video...
CLASS:PUBLIC
CATEGORIES:
STATUS:CONFIRMED
PARTSTAT:ACCEPTED
END:VEVENT
END:VCALENDAR
