BEGIN:VCALENDAR
PRODID:RAVE.CA V17.0
X-WR-CALNAME:Fizz Factory Presents Pete Moss
X-ORIGINAL-URL:https://www.rave.ca/event/20536/
VERSION:2.0
CALSCALE:GREGORIAN
METHOD:PUBLISH
BEGIN:VEVENT
DTSTAMP:20080815T161627Z
LAST-MODIFIED:20080815T161627Z
CREATED:20080813T143738Z
SEQUENCE:20536
ORGANIZER:Fizz Factory
DTSTART:20080829T220000Z
DTEND:20080829T220000Z
UID:event_20536@rave.ca
SUMMARY:Fizz Factory Presents Pete Moss
LOCATION:Salon Daome
URL:https://www.rave.ca/event/20536/
DESCRIPTION:Fizz Factory présente Fizz Factory Friday Night extended @ Salon Daomé avec Pete Moss – “Deep Rooted” CD Release Tour (Recline\, Dessous\, Ovum\, Nordic Trax\, Plastic city) \, le vendredi 29 août à 22 h\n\nOriginaire de Boston mais vivant à Philadelphie comme son ami et collègue Josh Wink\, Pete Moss s'amène au Salon Daomé avec la ferme intention de détruire le dancefloor grâce à son deep tech-house funky\, bouncy\, groovy et mélodique.\n\nCe Dj et producteur hors-pair a déjà fait paraître plusieurs pièces qui ont fait bouger des centaines de dancefloors et bouger des milliers de personnes à travers le globe. Ces pièces sont parus sur des étiquettes de disques comme Ovum (Label de Josh Wink)\, Dessous\, Nordic trax\, Large\, Plastic City\, Recline\, Siesta\, etc.\n\nDe plus\, il est important de souligner que Pete Moss à joué à de nombreuses reprises au prestigieux club londonien Fabric.\n\nAlertez les Pompiers\, car le dancefloor sera totalement en feu!!!!! :-)\n\nPour l'occasion vos Fizzidents Max Reynold's et Seb Fauteux seront des vôtres dès 22h pour mettre les premières bûches sonores! De même que PePe au théâtre visuel!!!\n\nFizz Factory Crew
CLASS:PUBLIC
CATEGORIES:
STATUS:CONFIRMED
PARTSTAT:ACCEPTED
END:VEVENT
END:VCALENDAR
