BEGIN:VCALENDAR
PRODID:RAVE.CA V17.0
X-WR-CALNAME:Kiffah Turns 12 !! We Celebrate W, Miltonclark
X-ORIGINAL-URL:https://www.rave.ca/event/20086/
VERSION:2.0
CALSCALE:GREGORIAN
METHOD:PUBLISH
BEGIN:VEVENT
DTSTAMP:20080727T144335Z
LAST-MODIFIED:20080727T144335Z
CREATED:20080723T065053Z
SEQUENCE:20086
ORGANIZER:Broken Crew
DTSTART:20080725T213000Z
DTEND:20080725T213000Z
UID:event_20086@rave.ca
SUMMARY:Kiffah Turns 12 !! We Celebrate W\, Miltonclark
LOCATION:Vinyl
URL:https://www.rave.ca/event/20086/
DESCRIPTION:Kiffah has been a righteous presence for years\, and I mean YEARS in the city's underground scene\, and I mean UNDERGROUND scene.\n\nHis sounds range from the bass heavy to the bass heavier to the depths of fuck yeah.\n\nLately he's been helping to bring UK dubstep acts to town so you're sure to hear some gangsta shit.\nHaving the experienced open mind that he does though\, Le Kiff will throw down anything and everything his ears have soaked up over the years. \n\nHelping out on the decks his regular tagteam partner\, Milton Clark.\nFormerly of the apocalyptic rave circus Kirk6 and responsible for many mad dancefloors himself\, he's sure to throw many musical curveballs at Kiffah and the dancefloor.\n\nResidents Rhys Taylor and Murdock providing more dancefloor sickness.\n\nFREE BBQ B4 12 on our all you can smoke terrace!!!\n\nNO COVER!!!\n\nCome give some belated birthday love to the ultra-loveable KIFFAH!!\n\nThis will be a night of SICK\, SICK music from all over the spectrum of raveland!! REPRESENT!
CLASS:PUBLIC
CATEGORIES:
STATUS:CONFIRMED
PARTSTAT:ACCEPTED
END:VEVENT
END:VCALENDAR
