BEGIN:VCALENDAR
PRODID:RAVE.CA V17.0
X-WR-CALNAME:Cruz Control: Hulla Hoop Fever
X-ORIGINAL-URL:https://www.rave.ca/event/20081/
VERSION:2.0
CALSCALE:GREGORIAN
METHOD:PUBLISH
BEGIN:VEVENT
DTSTAMP:20081011T130832Z
LAST-MODIFIED:20081011T130832Z
CREATED:20080722T074717Z
SEQUENCE:20081
ORGANIZER:Cruz Control
DTSTART:20081011T220000Z
DTEND:20081011T030000Z
UID:event_20081@rave.ca
SUMMARY:Cruz Control: Hulla Hoop Fever
LOCATION:Gymnase\, Le
URL:https://www.rave.ca/event/20081/
DESCRIPTION:DJ Mutante - live electro/break\nDJ Nitrous - mix dubstep\nBanditos - live electro/tekno\nKasdal - mix electro/break\nYankat - mix electro/break\nHpnotik - live video/installation\nMa" - live video/installation
CLASS:PUBLIC
CATEGORIES:
STATUS:CONFIRMED
PARTSTAT:ACCEPTED
END:VEVENT
END:VCALENDAR
