BEGIN:VCALENDAR
PRODID:RAVE.CA V17.0
X-WR-CALNAME:Don &#039;t Fake The Break
X-ORIGINAL-URL:https://www.rave.ca/event/19994/
VERSION:2.0
CALSCALE:GREGORIAN
METHOD:PUBLISH
BEGIN:VEVENT
DTSTAMP:20080708T143451Z
LAST-MODIFIED:20080708T143451Z
CREATED:20080704T030824Z
SEQUENCE:19994
ORGANIZER:Broken Crew
DTSTART:20080711T210000Z
DTEND:20080712T030000Z
UID:event_19994@rave.ca
SUMMARY:Don 't Fake The Break
LOCATION:Vinyl
URL:https://www.rave.ca/event/19994/
DESCRIPTION:Corey K has spent the better part of ten years making all sorts of goodness happen our fine city.\n\nSince the days of Nice parties Corey has been co-ordinating the madness behind the decks and behind the scenes.\n\nHe's one of my favorite Montrealers!\n\nAND WHY THE FUCK NOT!?\n\nHe has made this city rock! He brought us vinyl at DNA and Concierge and D+B parties with international headliners and Mr. Vain moments and Some old Bullshit and Vagitron...\n\nNot to mention being a super sweetheart.\n\nBring the love for Corey's big day!!\n\nNO COVER!! FREE BBQ!! B-Day D+B SET!! \n\nMr. Vain Set?\n\nResidents Murdock and Rhys Taylor helping out with music.\n\nThe beautiful MeloDrastik\, K8 and Whitney with smiles at the bar.\n\nC-O-R-E-Y...K !!!
CLASS:PUBLIC
CATEGORIES:
STATUS:CONFIRMED
PARTSTAT:ACCEPTED
END:VEVENT
END:VCALENDAR
