BEGIN:VCALENDAR
PRODID:RAVE.CA V17.0
X-WR-CALNAME:Don &#039;t Break the Poontz
X-ORIGINAL-URL:https://www.rave.ca/event/19948/
VERSION:2.0
CALSCALE:GREGORIAN
METHOD:PUBLISH
BEGIN:VEVENT
DTSTAMP:20080625T071950Z
LAST-MODIFIED:20080625T071950Z
CREATED:20080625T071832Z
SEQUENCE:19948
ORGANIZER:Unknown
DTSTART:20080627T210000Z
DTEND:20080628T030000Z
UID:event_19948@rave.ca
SUMMARY:Don 't Break the Poontz
LOCATION:Vinyl
URL:https://www.rave.ca/event/19948/
DESCRIPTION:Once a year a great cosmological event takes place.\n\n Like the changing of the seasons\, it is an transformation that alters everyone's minds and bodies.\n\nA magical journey into the heart of festivity incarnate!\n\nThe Feast of ST. POONTZ!!!\n\nBBQ on the terrace\, Mr. Freeze \, Poontz Beats...\n\nThis Friday is a going to be the BOMB!!\n\nCome pay homage to the most wondrous P-O-O-N-T-Z!!!\n\nNO Cover means NO excuse for not coming and giving some love and dancing in the summertime.\n\nDoors at 9.\n\nResidents Murdock & Rhys Taylor represntin' on the decks\n\nMeloDrastik and (finally back in town!) Jaime LaBoom contolling the dancefloor behind the bar.\n\nSee you there.XOXO
CLASS:PUBLIC
CATEGORIES:
STATUS:CONFIRMED
PARTSTAT:ACCEPTED
END:VEVENT
END:VCALENDAR
