BEGIN:VCALENDAR
PRODID:RAVE.CA V17.0
X-WR-CALNAME:Bran Van 3000
X-ORIGINAL-URL:https://www.rave.ca/event/19844/
VERSION:2.0
CALSCALE:GREGORIAN
METHOD:PUBLISH
BEGIN:VEVENT
DTSTAMP:20080616T071831Z
LAST-MODIFIED:20080616T071831Z
CREATED:20080616T071428Z
SEQUENCE:19844
ORGANIZER:Unknown
DTSTART:20080701T213000Z
DTEND:20080701T213000Z
UID:event_19844@rave.ca
SUMMARY:Bran Van 3000
LOCATION:Scène General Motors
URL:https://www.rave.ca/event/19844/
DESCRIPTION:Déjà 10 ans qu'ils ont fait danser la planète pour la première fois\, avec Drinking in L.A. Ça se fête... en grand ! Bran Van 3000 convie tout le quartier au plus gros block party que la ville aura connu ! Joignez-vous à ces milliers de « voisins » d'ici et d'ailleurs qui prendront un coup de Rosé dans la chaleur de cette soirée d'été ! D.J. dans l'âme\, James Di Salvio a bien l'intention\, avec sa bande\, de redéfinir la notion de party !
CLASS:PUBLIC
CATEGORIES:
STATUS:CONFIRMED
PARTSTAT:ACCEPTED
END:VEVENT
END:VCALENDAR
