BEGIN:VCALENDAR
PRODID:RAVE.CA V17.0
X-WR-CALNAME:Transe-Plus-O-Gazebo
X-ORIGINAL-URL:https://www.rave.ca/event/19643/
VERSION:2.0
CALSCALE:GREGORIAN
METHOD:PUBLISH
BEGIN:VEVENT
DTSTAMP:20080526T132520Z
LAST-MODIFIED:20080526T132520Z
CREATED:20080518T222617Z
SEQUENCE:19643
ORGANIZER:Renegade Legion
DTSTART:20080525T140000Z
DTEND:20080525T140000Z
UID:event_19643@rave.ca
SUMMARY:Transe-Plus-O-Gazebo
LOCATION:Unknown
URL:https://www.rave.ca/event/19643/
DESCRIPTION:
CLASS:PUBLIC
CATEGORIES:
STATUS:CONFIRMED
PARTSTAT:ACCEPTED
END:VEVENT
END:VCALENDAR
