BEGIN:VCALENDAR
PRODID:RAVE.CA V17.0
X-WR-CALNAME:Monsieur Seb, Olivier saint Germain
X-ORIGINAL-URL:https://www.rave.ca/event/19633/
VERSION:2.0
CALSCALE:GREGORIAN
METHOD:PUBLISH
BEGIN:VEVENT
DTSTAMP:20080526T183555Z
LAST-MODIFIED:20080526T183555Z
CREATED:20080516T155651Z
SEQUENCE:19633
ORGANIZER:Unknown
DTSTART:20080605T170000Z
DTEND:20080605T170000Z
UID:event_19633@rave.ca
SUMMARY:Monsieur Seb\, Olivier saint Germain
LOCATION:Terrasses Bonsecours
URL:https://www.rave.ca/event/19633/
DESCRIPTION:
CLASS:PUBLIC
CATEGORIES:
STATUS:CONFIRMED
PARTSTAT:ACCEPTED
END:VEVENT
END:VCALENDAR
