BEGIN:VCALENDAR
PRODID:RAVE.CA V17.0
X-WR-CALNAME:Hardcore Underground
X-ORIGINAL-URL:https://www.rave.ca/event/19594/
VERSION:2.0
CALSCALE:GREGORIAN
METHOD:PUBLISH
BEGIN:VEVENT
DTSTAMP:20080510T143624Z
LAST-MODIFIED:20080510T143624Z
CREATED:20080508T125031Z
SEQUENCE:19594
ORGANIZER:Unknown
DTSTART:20080604T210000Z
DTEND:20080604T210000Z
UID:event_19594@rave.ca
SUMMARY:Hardcore Underground
LOCATION:Saphir\, Club
URL:https://www.rave.ca/event/19594/
DESCRIPTION:DJ Moebius et DJ Mutante present:\nHardcore Underground\nHardcore Techno/Breakcore/Speedcore night\ncover 5$\n2 wendsday every month + guest\n\nJune 4 guest : Dans Tes Oreilles\n\nat Bar Saphir\nwww.saphirbar.com\n\n3699 boulevard Saint-Laurent\nMontréal\, QC H2X 2V7\n(514) 284-5093
CLASS:PUBLIC
CATEGORIES:
STATUS:CONFIRMED
PARTSTAT:ACCEPTED
END:VEVENT
END:VCALENDAR
