BEGIN:VCALENDAR
PRODID:RAVE.CA V17.0
X-WR-CALNAME:Transe-O-Gazebo
X-ORIGINAL-URL:https://www.rave.ca/event/19488/
VERSION:2.0
CALSCALE:GREGORIAN
METHOD:PUBLISH
BEGIN:VEVENT
DTSTAMP:20081202T200246Z
LAST-MODIFIED:20081202T200246Z
CREATED:20080505T193824Z
SEQUENCE:19488
ORGANIZER:Renegade Legion
DTSTART:20080511T143000Z
DTEND:20080511T143000Z
UID:event_19488@rave.ca
SUMMARY:Transe-O-Gazebo
LOCATION:Unknown
URL:https://www.rave.ca/event/19488/
DESCRIPTION:gazebo de la plaine du tam-tam (a la droite de la statue)
CLASS:PUBLIC
CATEGORIES:
STATUS:CONFIRMED
PARTSTAT:ACCEPTED
END:VEVENT
END:VCALENDAR
