BEGIN:VCALENDAR
PRODID:RAVE.CA V17.0
X-WR-CALNAME:Taurus Party
X-ORIGINAL-URL:https://www.rave.ca/event/19483/
VERSION:2.0
CALSCALE:GREGORIAN
METHOD:PUBLISH
BEGIN:VEVENT
DTSTAMP:20080505T200931Z
LAST-MODIFIED:20080505T200931Z
CREATED:20080504T173240Z
SEQUENCE:19483
ORGANIZER:Unknown
DTSTART:20080502T210000Z
DTEND:20080502T210000Z
UID:event_19483@rave.ca
SUMMARY:Taurus Party
LOCATION:Unknown
URL:https://www.rave.ca/event/19483/
DESCRIPTION:Somewhere over the rainbow...
CLASS:PUBLIC
CATEGORIES:
STATUS:CONFIRMED
PARTSTAT:ACCEPTED
END:VEVENT
END:VCALENDAR
