BEGIN:VCALENDAR
PRODID:RAVE.CA V17.0
X-WR-CALNAME:Get Up Stand Up
X-ORIGINAL-URL:https://www.rave.ca/event/19438/
VERSION:2.0
CALSCALE:GREGORIAN
METHOD:PUBLISH
BEGIN:VEVENT
DTSTAMP:20081005T160138Z
LAST-MODIFIED:20081005T160138Z
CREATED:20080423T190929Z
SEQUENCE:19438
ORGANIZER:Pink Cloud Production
DTSTART:20081003T210000Z
DTEND:20081004T070000Z
UID:event_19438@rave.ca
SUMMARY:Get Up Stand Up
LOCATION:CALL THE INFOLINE : francais : 839 0591 anglais :514-463-0979
URL:https://www.rave.ca/event/19438/
DESCRIPTION:HARDCORE WE LOVE YOU !!!!!!!!!!!!!\n\nPARTY CONFIRMER ------->\n\nsalle dévoilé 48 h en avance \, \nla salle se trouve au metro BONAVENTURE\n( merci de garder le secret pour ceux qui connaisse la salle ) \n\n2 Rooms:\n\n- Big Room : Big Dancefloor \, LAZER SHOW \, 44 000 Watts\, + Visual By Vj Sakara \n\n- Chill Room : canapé\, Dark decoration \, +projection ( Vj sakara ) \n\n\nInfoline:\n-----------> Francais : (514)839-0591\n-----------> English  : (514)463-1401\n\nNO ALCHOOL !!!!\nNO COAT CHECK !!\nWATER : 2$ \n         \n\nHOST: PINKCLOUDproduction + LIndsaY !!!!!!   Be ready to Party !
CLASS:PUBLIC
CATEGORIES:
STATUS:CONFIRMED
PARTSTAT:ACCEPTED
END:VEVENT
END:VCALENDAR
