BEGIN:VCALENDAR
PRODID:RAVE.CA V17.0
X-WR-CALNAME:Tony Ezzy LIVE, Dj sarcastic
X-ORIGINAL-URL:https://www.rave.ca/event/19430/
VERSION:2.0
CALSCALE:GREGORIAN
METHOD:PUBLISH
BEGIN:VEVENT
DTSTAMP:20080422T170000Z
LAST-MODIFIED:20080422T170000Z
CREATED:20080422T165848Z
SEQUENCE:19430
ORGANIZER:Unknown
DTSTART:20080422T210000Z
DTEND:20080422T210000Z
UID:event_19430@rave.ca
SUMMARY:Tony Ezzy LIVE\, Dj sarcastic
LOCATION:Jello\, Bar
URL:https://www.rave.ca/event/19430/
DESCRIPTION:
CLASS:PUBLIC
CATEGORIES:
STATUS:CONFIRMED
PARTSTAT:ACCEPTED
END:VEVENT
END:VCALENDAR
