BEGIN:VCALENDAR
PRODID:RAVE.CA V17.0
X-WR-CALNAME:Eternal
X-ORIGINAL-URL:https://www.rave.ca/event/19338/
VERSION:2.0
CALSCALE:GREGORIAN
METHOD:PUBLISH
BEGIN:VEVENT
DTSTAMP:20080711T111656Z
LAST-MODIFIED:20080711T111656Z
CREATED:20080412T161008Z
SEQUENCE:19338
ORGANIZER:Kanibalz
DTSTART:20080719T210000Z
DTEND:20080719T210000Z
UID:event_19338@rave.ca
SUMMARY:Eternal
LOCATION:Unknown
URL:https://www.rave.ca/event/19338/
DESCRIPTION:Me\nMy music\nMy crowd\nMy justified anger\nMy truth about God\nMy respect for the real\nMy mind on world order\nMy addiction\nYour addiction\n\nThat's all...\n\nETERNAL
CLASS:PUBLIC
CATEGORIES:
STATUS:CONFIRMED
PARTSTAT:ACCEPTED
END:VEVENT
END:VCALENDAR
