BEGIN:VCALENDAR
PRODID:RAVE.CA V17.0
X-WR-CALNAME:Just Jonathan
X-ORIGINAL-URL:https://www.rave.ca/event/19066/
VERSION:2.0
CALSCALE:GREGORIAN
METHOD:PUBLISH
BEGIN:VEVENT
DTSTAMP:20080408T223158Z
LAST-MODIFIED:20080408T223158Z
CREATED:20080408T223149Z
SEQUENCE:19066
ORGANIZER:Unknown
DTSTART:20080427T210000Z
DTEND:20080427T210000Z
UID:event_19066@rave.ca
SUMMARY:Just Jonathan
LOCATION:Circus Afterhours
URL:https://www.rave.ca/event/19066/
DESCRIPTION:
CLASS:PUBLIC
CATEGORIES:
STATUS:CONFIRMED
PARTSTAT:ACCEPTED
END:VEVENT
END:VCALENDAR
