BEGIN:VCALENDAR
PRODID:RAVE.CA V17.0
X-WR-CALNAME:Arsen, Bender
X-ORIGINAL-URL:https://www.rave.ca/event/19064/
VERSION:2.0
CALSCALE:GREGORIAN
METHOD:PUBLISH
BEGIN:VEVENT
DTSTAMP:20080408T223048Z
LAST-MODIFIED:20080408T223048Z
CREATED:20080408T223037Z
SEQUENCE:19064
ORGANIZER:Unknown
DTSTART:20080425T210000Z
DTEND:20080425T210000Z
UID:event_19064@rave.ca
SUMMARY:Arsen\, Bender
LOCATION:Circus Afterhours
URL:https://www.rave.ca/event/19064/
DESCRIPTION:
CLASS:PUBLIC
CATEGORIES:
STATUS:CONFIRMED
PARTSTAT:ACCEPTED
END:VEVENT
END:VCALENDAR
