BEGIN:VCALENDAR
PRODID:RAVE.CA V17.0
X-WR-CALNAME:Tone Depth
X-ORIGINAL-URL:https://www.rave.ca/event/19061/
VERSION:2.0
CALSCALE:GREGORIAN
METHOD:PUBLISH
BEGIN:VEVENT
DTSTAMP:20080408T222843Z
LAST-MODIFIED:20080408T222843Z
CREATED:20080408T222835Z
SEQUENCE:19061
ORGANIZER:Unknown
DTSTART:20080418T210000Z
DTEND:20080418T210000Z
UID:event_19061@rave.ca
SUMMARY:Tone Depth
LOCATION:Circus Afterhours
URL:https://www.rave.ca/event/19061/
DESCRIPTION:
CLASS:PUBLIC
CATEGORIES:
STATUS:CONFIRMED
PARTSTAT:ACCEPTED
END:VEVENT
END:VCALENDAR
