BEGIN:VCALENDAR
PRODID:RAVE.CA V17.0
X-WR-CALNAME:BodyRox, Vivie-Ann, Kal
X-ORIGINAL-URL:https://www.rave.ca/event/19057/
VERSION:2.0
CALSCALE:GREGORIAN
METHOD:PUBLISH
BEGIN:VEVENT
DTSTAMP:20080408T222642Z
LAST-MODIFIED:20080408T222642Z
CREATED:20080408T222635Z
SEQUENCE:19057
ORGANIZER:Unknown
DTSTART:20080411T210000Z
DTEND:20080411T210000Z
UID:event_19057@rave.ca
SUMMARY:BodyRox\, Vivie-Ann\, Kal
LOCATION:Circus Afterhours
URL:https://www.rave.ca/event/19057/
DESCRIPTION:
CLASS:PUBLIC
CATEGORIES:
STATUS:CONFIRMED
PARTSTAT:ACCEPTED
END:VEVENT
END:VCALENDAR
