BEGIN:VCALENDAR
PRODID:RAVE.CA V17.0
X-WR-CALNAME:The FIRST EDITION of the Project Mayhem Show on HOH Radio!
X-ORIGINAL-URL:https://www.rave.ca/event/18808/
VERSION:2.0
CALSCALE:GREGORIAN
METHOD:PUBLISH
BEGIN:VEVENT
DTSTAMP:20080412T174005Z
LAST-MODIFIED:20080412T174005Z
CREATED:20080404T033729Z
SEQUENCE:18808
ORGANIZER:Unknown
DTSTART:20080406T150000Z
DTEND:20080406T170000Z
UID:event_18808@rave.ca
SUMMARY:The FIRST EDITION of the Project Mayhem Show on HOH Radio!
LOCATION:Unknown
URL:https://www.rave.ca/event/18808/
DESCRIPTION:Listen to DJ Samwise streaming 2 hours of the cheeziest UK Hardcore LIVE on History Of Hardcore Radio\, UK! \nhttp://www.djflipside.co.uk/hohsite/radio.php\n\nWinamp: http://87.117.195.47:3962/listen.pls\nWindows Media: http://87.117.195.47:3962/listen.pls\nReal Player: http://87.117.195.47:3962/listen.pls
CLASS:PUBLIC
CATEGORIES:
STATUS:CONFIRMED
PARTSTAT:ACCEPTED
END:VEVENT
END:VCALENDAR
