BEGIN:VCALENDAR
PRODID:RAVE.CA V17.0
X-WR-CALNAME:Meltdown: Shadow FX
X-ORIGINAL-URL:https://www.rave.ca/event/18742/
VERSION:2.0
CALSCALE:GREGORIAN
METHOD:PUBLISH
BEGIN:VEVENT
DTSTAMP:20080401T002547Z
LAST-MODIFIED:20080401T002547Z
CREATED:20080331T172704Z
SEQUENCE:18742
ORGANIZER:Unknown
DTSTART:20080328T210000Z
DTEND:20080328T210000Z
UID:event_18742@rave.ca
SUMMARY:Meltdown: Shadow FX
LOCATION:Unknown
URL:https://www.rave.ca/event/18742/
DESCRIPTION:Shakti Collective invites you to greet the spring with another heartwarming event.\n\nPresenting a unique\, Canadian debut performance of\n\nSHADOW FX (Zenon Records\, Australia) - Live Set!\n\nShadow Fx was created in 2002 by 26 year old James Hayes from Melbourne\, Australia. James started his musical career studying and playing drums and guitar in high school. Then at the age of seventeen he discovered psytrance in and around the famous trance hotspot of Byron Bay. After listening to and Dj’ing the music for several years\, he decided to move to Melbourne and make a serious effort to put his own mark on the scene. He bought a computer and started to produce full time\, leading him to the smooth and refined sound for which he is known today. In recent years he has played at many parties all over Australia including Rainbow Serpent\, Earthdance and Audiogasm. He has also released compilation tracks on ZMA and Zenon\, plus on Cosmic Conspiracy records with his brother Tetrameth. Shadow Fx has created a smooth blend of deep\, funky\, morning progressive that is distinctively shaped from the Zenon sound. In 2007 he released his debut album Direct Influence on Zenon.\n\n\n\n\n\nDARVIN KNORR (Zenon Records\, Area 709\, Calgary) - DJ Set!\n\nFrom his university days of ice-climbing\, kayaking and mountain bike racing to his more recent involvement in the Canadian electronica community as a dancer\, promoter\, dj and budding producer DJ Nokturnal (Darvin Knorr) has never been one to do something half-way. Ten years of performing have recently led him to commit his Nokturnal incarnation to the Zenon sound: dark\, intelligent and most definitely nothing but psytrance. Darvin is honored to represent a label which is home to so many incredible artists and he is eager to showcase the Zenon sound at gatherings around the world.\n\n\n\n\n\n\nDJs:\n\nShankar vs. Quivering Virgin (debut back-to-back dj set!)\nPlan B\nBlake Dailey\n\n\nCHILLROOM:\n\nQuietly Quivering\nRook\nMandelbrot\n\n\nDECO & VISUALS\n\nWaking Dream (Montreal)\nIvygrrl\nWuzzle\nVj Guy\n\nFriday\, March 28th - 10pm-6am\nReverb Night Club\n651 Queen Street West\n\n\n$20 in advance - at Shanti Baba (546 Queen St West)\nmore @ the door\n\n19+\n\nwww.shakticollective.com\n_________________\nSHAKTI COLLECTIVE - www.shakticollective.com\n\nTRIBAL VISION RECORDS - www.tribalvision.cz
CLASS:PUBLIC
CATEGORIES:
STATUS:CONFIRMED
PARTSTAT:ACCEPTED
END:VEVENT
END:VCALENDAR
