BEGIN:VCALENDAR
PRODID:RAVE.CA V17.0
X-WR-CALNAME:Doc Illumination: Ayurveda
X-ORIGINAL-URL:https://www.rave.ca/event/18600/
VERSION:2.0
CALSCALE:GREGORIAN
METHOD:PUBLISH
BEGIN:VEVENT
DTSTAMP:20080320T085217Z
LAST-MODIFIED:20080320T085217Z
CREATED:20080304T181103Z
SEQUENCE:18600
ORGANIZER:Unknown
DTSTART:20080328T193000Z
DTEND:20080329T023000Z
UID:event_18600@rave.ca
SUMMARY:Doc Illumination: Ayurveda
LOCATION:218 St. Paul West (Corner St-Nicolas) metro Sq. Victoria
URL:https://www.rave.ca/event/18600/
DESCRIPTION:PLEASE CIRCULATE to your networks ~ SVP CIRCULEZ à vos reseaux ~ merci !\n\nAdvance tickets available ~ limited space / Prévente de billets disponible ~ places limitées\n\n*** voir version français plus bas\n\n\n\n\nInsightful Events proudly presents :\n\nDOC~Illumination\nA unique monthly evening of discovery\, creativity and celebration\, including documentary film\, educational lectures\, workshops\, djs\, acoustic musicians\, performances & surprises once per month in 100% support of Cancer PREVENTION ...\n\nfrom October 2007 to April 2008\n\n\n\nNEXT DATE : Friday\, March 28th 2008\n@ 730pm\n\n\n\n* BILINGUAL WORKSHOP : Ayurveda : www.healthandayurveda.com\nwith Nicole Theriault  - Naturopath / Ayurvedic Therapist - Spa Zazen \n\n\n* LIVE CONCERT PERFORMANCE : by special guests\nCanada's master bansuri flautist - Catherine Potter : www.catherinepotter.net\nand Shawn Mativetsky (tablas) : www.shawnmativetsky.com/\n\n\n* EDUCATIONAL FILM : Ayurveda - Art of Being \n\n\n* MUSIQUE : world rhythm ambiance with\nDj Neerav\n\n\n* FREE 5 minute chair massages\nfrom 930pm to 2am by Zenergica : www.zenergica.com\n\n\norganic snacks by PRANA\, chai\, tea\, organic drinks\nand organic juices by Jinjaa available\n\n\n\nLOCATION : NEXUS Center for the diffusion of Arts & Culture\n218 St. Paul West (Corner St-Nicolas) metro Sq. Victoria\n\n\n\n$15.00 in advance / $20.00 at the door\n*** Advance tickets available at\nA Votre Santé - 5126 Sherbrooke West (corner Vendome) et au\nFrenco - 3985 St-Laurent (corner Duluth)\n\n\n\n* Donations over $25.00 (including entrance) will\nbe eligible for fabulous prizes from\nSpa Zazen ($75.00 package including 5 sessions)\,\nDruide ($40.00 gift certificates)\, and/or a one year subscription to Ascent Magazine (valued at $32.00)\n\n\n\n***** Updated MONTHLY PROGRAMMING details : http://www.insightfulevents.ca/events.htm\nPlease bookmark this page and visit often to see what confirmed screenings and surprise guests will be performing for the coming months. Since there are many little surprises\, the schedule is only approximate. A specific program will be available at each event.\n\n\n100% of all net donations go to :\nPREVENT CANCER NOW : http://http://www.preventcancernow.ca/about.html\n\n\n*** There will be a merchandise table where small practical items may be donated for sale to raise additional funds for the cause. So if you have any interesting books to contribute\, in good condition\, please tag them with a fair price and feel free to bring them along. Thank you !\n\n\n\n\nDOCillumination - REVIEWS : http://www.facebook.com/topic.php?uid=6079543737&topic=1754\n\n\n*** BIOGRAPHIES : http://www.insightfulevents.ca/docillumbios.htm\n\n\nPHOTOS of\nOctober 19th\, 2007 : http://www.insightfulevents.ca/docillum19oct07.htm\n& December 7th\, 2007 : http://www.insightfulevents.ca/docillum07dec07.htm\n& January 18th\, 2008 : http://www.insightfulevents.ca/docillum18jan08.htm\n& February 22nd\, 2008 : http://www.insightfulevents.ca/docillum22feb08.htm\n\n\n\nSpecial Thanks to our kind sponsors :\n\nHour Magazine : http://www.hour.ca\nAscent Magazine : http://www.ascentmagazine.com\nNexus Arts & Culture Center : http://www.nexus-montreal.com\nPRANA : http://www.pranana.com\nJinjaa juice : http://www.jinjaa.com\nDruide : http://www.druide.ca\nSpa Zazen : http://www.spazazen.com\nAux Vivres Restaurant\n\n\nIf you'd like to volunteer\, join our sponsors\, or for more information\, please feel free to contact Risa @ insightfulevents@yahoo.ca\n\n\n\n\n~*~*~*~*~*~*~*~*~*~*~*~*~*~*~*~*~*~*~*~*~*~\n\n\n\n\nInsightful Events est fière de présenter :\n\nDOC~Illumination\nune soirée mensuelle unique en son genre\, de découverte\, de créativité et de célébration\, sous forme de documentaires\, conférences\, ateliers\, djs\, musique live\, performances\, surprises\, etc.\,. en 100% support de la PRÉVENTION de Cancer ...\n\n\nd'octobre 2007 jusqu'avril 2008.\n\n\nPROCHAINE DATE : vendredi\, le 28 mars\, 2008\n@ 19h30\n\n\n* ATELIER BILINGUE : Ayurveda : www.healthandayurveda.com\npar Nicole Theriault - Naturopathe et thérapeute en Ayurveda - Spa Zazen\n\n\n* CONCERT PERFORMANCE LIVE : par invitées spéciaux \nmaître national du flûte bansuri - Catherine Potter : www.catherinepotter.net\net Shawn Mativetsky (tablas) : www.shawnmativetsky.com/\n\n\n* FILM ÉDUCATIF : : Ayurveda - Art of Being \n\n\n* MUSIQUE du monde ambiant avec\nDj Neerav\n\n\n* massages 5 minutes GRATUIT sur chaise\nde 21h30-02h00 par Zenergica * www.zenergica.com\n\n\n\ngrignotines biologiques PRANA\, chai\, thé\, boissons biologiques et jus biologiques de Jinjaa disponibles\n\n\n\nENDROIT : NEXUS Centre diffusion des Arts & Cultures\n218 St. Paul Ouest (Coin St-Nicolas) metro Sq. Victoria\n\n\n\n15$ à l'avance / 20$ à la porte\n*** Prévente de billets disponible\nA Votre Santé - 5126 Sherbrooke West (corner Vendome) et au\nFrenco - 3985 St-Laurent (corner Duluth)\n\n\n\n* Les personnes faisant un don de 25 $ et plus (incluant le prix d'entrée) pourront gagner des prix fabuleux de\nZazen Spa (forfait de $75.00 incluant 5 sessions)\,\nDruide (certificats cadeau de $40.00)\, et/ou\net/ou un abonnement d'année au Magazine Ascent (valeur de $32.00)\n\n\n\n\n*** La mise à jour MENSUELLE de la PROGRAMMATION : http://www.insightfulevents.ca/events.htm\nN'hésitez pas à conserver cette page dans vos signets et à la visiter souvent pour voir les projections confirmées\, les invités surprises des prochains mois. Comme il y aura beaucoup de petites suprises\, l'horaire est seulement approximatif. Un programme spécifique sera disponible sur place\, à chaque événement.\n\n\n100 % des dons net recueillis sont remis à l'organisme\nPRÉVENIR LE CANCER MAINTENANT : http://http://www.preventcancernow.ca/about.html\n\n\n*** Une table d'encan sera installée sur place à chacune des soirées. Vous pourrez faire don de petits articles pratiques à mettre en vente\, afin de recueillir des fonds supplémentaires au bénéfice de la cause. Si\, par exemple\, vous avez des livres intéressants et en bonne condition à offrir\, nous vous invitons à les doter d'une étiquette avec un prix que vous jugez raisonnable et à nous les apporter. Un grand merci à l'avance !\n\n\nDOCillumination - COMMENTAIRES : http://www.facebook.com/topic.php?uid=6079543737&topic=1754\n\n\n*** BIOGRAPHIES : http://www.insightfulevents.ca/docillumbios.htm\n\n\nPHOTOS de 19 octobre\, 2007 : http://www.insightfulevents.ca/docillum19oct07.htm\n& 7 décembre\, 2007 : http://www.insightfulevents.ca/docillum07dec07.htm\n& 18 janvier\, 2008 : http://www.insightfulevents.ca/docillum18jan08.htm\n& February 22nd\, 2008 : http://www.insightfulevents.ca/docillum22feb08.htm\n\n\n\nRemerciements spéciaux à nos généreux commanditaires :\n\nHour Magazine : http://www.hour.ca\nAscent Magazine : http://www.ascentmagazine.com\nNexus Arts & Culture Center : http://www.nexus-montreal.com\nPRANA : http://www.pranana.com\nJinjaa juice : http://www.jinjaa.com\nDruide : http://www.druide.ca\nZazen Spa : http://www.spazazen.com\nAux Vivres Restaurant\n\n\n\nSi vous souhaitez commanditer cet événement\, offrir vos services en tant que bénévole \, ou recevoir de plus amples renseignements\, veuillez communiquer avec Risa @ insightfulevents@yahoo.ca
CLASS:PUBLIC
CATEGORIES:
STATUS:CONFIRMED
PARTSTAT:ACCEPTED
END:VEVENT
END:VCALENDAR
