BEGIN:VCALENDAR
PRODID:RAVE.CA V17.0
X-WR-CALNAME:ULTRA Music Festival - Decade Edition
X-ORIGINAL-URL:https://www.rave.ca/event/18598/
VERSION:2.0
CALSCALE:GREGORIAN
METHOD:PUBLISH
BEGIN:VEVENT
DTSTAMP:20080304T163511Z
LAST-MODIFIED:20080304T163511Z
CREATED:20080304T141035Z
SEQUENCE:18598
ORGANIZER:Unknown
DTSTART:20080328T160000Z
DTEND:20080330T000000Z
UID:event_18598@rave.ca
SUMMARY:ULTRA Music Festival - Decade Edition
LOCATION:Bicentennial Park
URL:https://www.rave.ca/event/18598/
DESCRIPTION:ULTRA celebrates 10 YEARS!!!\nA decade of music and fun\, in the sun...\n\nTHe legendary Ultra Music Festival reveals its most elaborate production to date\, the DECADE EDITION.\n\nUMF returns to Downtown Miami's oceanfront Bicentennial Park for 2 DAYS and 2 NIGHTS.\n\nThere will be 14 stages set over two days\, featuring more than 100Djs\, bands and producers. More than 70\,000 international music enthusiasts are expected in attendance for this historic event!!\n\n\nFriday Day One\nMarch 28 2008 = 4:00pm till 12:00am\n\n- Main Stage\n\nThe Bravery\nEric Prydz\nJunkie XL\nErol Alkan\nDeadmau5\nThe Veez\n\n- Carl Cox & Friends\n\nCarl Cox\nDanny Tenaglia\nRichie Hawtin\nJosh Wink\n\n- The Rabbit Hole\n\nRabbit In The Moon\nThe Crystal Method\nBT\nKevens\nJackal & Hyde\nDynamix II\nMonk\nGalaxy Girl\nClayton Steele\n\n- Amnesia Ibiza Arena\n\nSteve Lawler\nJames Zabiela\nM.A.N.D.Y.\nRobbie Rivera\nLee Burridge\nDamian Lazarus\nMar-T\nles Schmitz\nBrian Cross\nFrancesco Rossi\n\n- Dance Rock Stage\n\nDigitalism\nMSTRKRFT\nBoys Noize\nAnnie Mac\nJeremy Dawson\nLA Riots\n\n\nSaturday Day Two\nMarch 29 2008 = 12:00pm till 12:00am\n\n- Main Stage\n\nUnderworld\nPaul Van Dyk\nErick Morillo\nArmin Van Buuren\nFerry Corsten\nPete Tong\nSander Van Doorn\nUnion Jack\nCalvin Harris\nSecond Sun\nEnur\nJes\n\n- Carl Cox & Friends\n\nCarl Cox\nMOBY\nDavid Guetta\nFedde Le Grand\nJohn Rundell\n\n- Bay Front Stage\n\nSasha & John Digweed\nSander Kleinenberg\nBenny Benassi\nDJ Dan & Donald Glaude\nLayo & Bushwacka\nDirty South\nMark Knight\nAudiofly\nNate Campbell\n\n- Break Beat\n\nStanton Warriors\nHybrid\nUberzone\nThe Freestylers\nDJ Icey\nKrafty Kuts\nHyper & General Midi\nBaby Anne Feat. Darling Nikki\nMeat Katie & Dylan Rhymes\nStorm & Johnny Dangerously\nHydroz\nD-Lerium & Faze\nBrazen\nAutonomous Bass Heads\nHosted by: MC Flipside\n\n- Drum & Bass\n\nPlanet Of The Drums\nAndy C & MC GQ\nGoldie\nFabio\nShyFx\nAdamF\nPhotek\nEd Rush & Optical\nSoundweapon\nTeebee\nKilla Kela\nDJ SS Feat. Green Law\nSubfocus\nJohn B\nEvol Intent\nDB\nReid Speed\nEmpress\nDJ B. Traits\nBass Nacho\nThe Engineer
CLASS:PUBLIC
CATEGORIES:
STATUS:CONFIRMED
PARTSTAT:ACCEPTED
END:VEVENT
END:VCALENDAR
