BEGIN:VCALENDAR
PRODID:RAVE.CA V17.0
X-WR-CALNAME:Electro Drift
X-ORIGINAL-URL:https://www.rave.ca/event/18522/
VERSION:2.0
CALSCALE:GREGORIAN
METHOD:PUBLISH
BEGIN:VEVENT
DTSTAMP:20080606T013808Z
LAST-MODIFIED:20080606T013808Z
CREATED:20080222T175504Z
SEQUENCE:18522
ORGANIZER:Cyberl0ft
DTSTART:20080607T210000Z
DTEND:20080608T030000Z
UID:event_18522@rave.ca
SUMMARY:Electro Drift
LOCATION:Saints
URL:https://www.rave.ca/event/18522/
DESCRIPTION:Yokohama/Ricci Drift Team sera sur place (Pilotes et Voitures)\n\nRobert Ricci / Nissan Silvia S13\nhttp://www.canadiandrifting.com/Drivers/DMCC/RobertRicci.aspx\n\nGreig Basdeo / Nissan S13\nhttp://www.canadiandrifting.com/Drivers/DMCC/GreigBasdeo.aspx\n\nJean-Francois Chiasson / Nissan 240SX S14.4A\nhttp://www.canadiandrifting.com/Drivers/DMCC/JeanFrancoisChiasson.aspx\n\nPier-Luc Chiasson / Skyline GTS-T R32\nhttp://www.canadiandrifting.com/Drivers/DriftthingNights/PierLucChiasson.aspx\n\n\nSpectacle de danse électro sur stage par ELECTRO-FAMILY ( http://www.facebook.com/group.php?gid=12248941311)\n\n\nVJ Euterke - www.euterke.com
CLASS:PUBLIC
CATEGORIES:
STATUS:CONFIRMED
PARTSTAT:ACCEPTED
END:VEVENT
END:VCALENDAR
