BEGIN:VCALENDAR
PRODID:RAVE.CA V17.0
X-WR-CALNAME:Reign In Blood
X-ORIGINAL-URL:https://www.rave.ca/event/18517/
VERSION:2.0
CALSCALE:GREGORIAN
METHOD:PUBLISH
BEGIN:VEVENT
DTSTAMP:20090128T195631Z
LAST-MODIFIED:20090128T195631Z
CREATED:20080221T184223Z
SEQUENCE:18517
ORGANIZER:Pissfun Entertainment
DTSTART:20081206T210000Z
DTEND:20081207T080000Z
UID:event_18517@rave.ca
SUMMARY:Reign In Blood
LOCATION:Existenz\, Afterhours
URL:https://www.rave.ca/event/18517/
DESCRIPTION:Room 1: Hardcore/Industrial/Breakcore/Darkcore\n\nRoom 2: Drum'n'Bass/Breakcore
CLASS:PUBLIC
CATEGORIES:
STATUS:CONFIRMED
PARTSTAT:ACCEPTED
END:VEVENT
END:VCALENDAR
