BEGIN:VCALENDAR
PRODID:RAVE.CA V17.0
X-WR-CALNAME:Elektrisch Orhen
X-ORIGINAL-URL:https://www.rave.ca/event/18454/
VERSION:2.0
CALSCALE:GREGORIAN
METHOD:PUBLISH
BEGIN:VEVENT
DTSTAMP:20080403T024055Z
LAST-MODIFIED:20080403T024055Z
CREATED:20080209T174448Z
SEQUENCE:18454
ORGANIZER:Unknown
DTSTART:20080405T230500Z
DTEND:20080406T091000Z
UID:event_18454@rave.ca
SUMMARY:Elektrisch Orhen
LOCATION:UnderGround
URL:https://www.rave.ca/event/18454/
DESCRIPTION:Elektrisch_Orhen : \nSoir/e Minimal-tech\,electro\, Électro-tech et Psy-trance\,  se déroulant toute la nuit\,jusqu`aux heures du matins.   \nPlaces limitées.\nramenez du bonheur et tous ce dont vous avez besoin\, au 2335\, FULLUM\, ( METRO FRONTENAC) ENTRE LES RUE ROUEN ET HOSHLAGA.\nSite en construktion\, joignez-vous:  Elecktrisch_Orhen@hotmail.com
CLASS:PUBLIC
CATEGORIES:
STATUS:CONFIRMED
PARTSTAT:ACCEPTED
END:VEVENT
END:VCALENDAR
