BEGIN:VCALENDAR
PRODID:RAVE.CA V17.0
X-WR-CALNAME:Harajuku Quebec
X-ORIGINAL-URL:https://www.rave.ca/event/18378/
VERSION:2.0
CALSCALE:GREGORIAN
METHOD:PUBLISH
BEGIN:VEVENT
DTSTAMP:20080406T195929Z
LAST-MODIFIED:20080406T195929Z
CREATED:20080126T232257Z
SEQUENCE:18378
ORGANIZER:Unknown
DTSTART:20080404T220000Z
DTEND:20080405T030000Z
UID:event_18378@rave.ca
SUMMARY:Harajuku Quebec
LOCATION:La Ninkasi du Faubourg 811 St-Jean\, Québec\, Qc.
URL:https://www.rave.ca/event/18378/
DESCRIPTION:HARAJUKU QUEBEC\nVendredi 4 avril 2008\n\n\nCHROMOSOME SYNDICATE \nprésente des nouvelles soirées mensuelles de mode et de culture japonaise \n\n\nDJ INVITÉS EN AVRIL :: \n\nDJ KAOTIK \n(Montréal / INDUS) \n\nDJ EPSYB \n(Québec / ELECTRO) \n\nDJ EZECKIEL \n(Québec / ELECTRO) \n\nDJ JACK MALAX \n(Québec / MUSIQUE JAPONAISE) \n\nDJ BIOTEK \n(Québec / FUTUREPOP) \n\n\nVJ INVITÉS EN AVRIL : \n\nVJ KAWAII \n(Québec) \n\nVJ +V \n(Québec) \n\nVJ MISST \n(Québec) \n\n\n\nPRIX D'ENTRÉE :: \n\n5 $ à la porte \nGRATUIT avec flyer \nGRATUIT habillés selon la mode Harajuku\n\n\n\n\n\nSPÉCIAL POUR l'ÉDITION D'AVRIL :: \n\nCollaboration avec le Collectif bioMETRIK et L'ÉQUIPE DU FESTIVAL KINETIK\n\nPROMOTION DU FESTIVAL KINETIK \nwww.festival-kinetik.net \n\nTIRAGES DE MATÉRIEL LIÉ AU FESTIVAL KINETIK PARMIS CEUX QUI SONT HABILLÉS SELON LA MODE HARAJUKU !!!! \n\n\n\n\nINFOS SUR : \n\nwww.chromosome-syndicate.com \n\n\n\n\n\n\nSALLE PERMANENTE : \n\nLA NINKASI DU FAUBOURG\, \n811 rue St-Jean\, Québec\, Qc\, Canada \nwww.ninkasi.ca
CLASS:PUBLIC
CATEGORIES:
STATUS:CONFIRMED
PARTSTAT:ACCEPTED
END:VEVENT
END:VCALENDAR
