BEGIN:VCALENDAR
PRODID:RAVE.CA V17.0
X-WR-CALNAME:Fizz Factory Friday Night
X-ORIGINAL-URL:https://www.rave.ca/event/18359/
VERSION:2.0
CALSCALE:GREGORIAN
METHOD:PUBLISH
BEGIN:VEVENT
DTSTAMP:20080122T145822Z
LAST-MODIFIED:20080122T145822Z
CREATED:20080122T145607Z
SEQUENCE:18359
ORGANIZER:Unknown
DTSTART:20080314T220000Z
DTEND:20080314T220000Z
UID:event_18359@rave.ca
SUMMARY:Fizz Factory Friday Night
LOCATION:Salon Daome
URL:https://www.rave.ca/event/18359/
DESCRIPTION:Fizz Factory vous présente Seb Fauteux & Steve Gatsoul @ Salon Daomé\, le vendredi 14 Mars à 22h.
CLASS:PUBLIC
CATEGORIES:
STATUS:CONFIRMED
PARTSTAT:ACCEPTED
END:VEVENT
END:VCALENDAR
