BEGIN:VCALENDAR
PRODID:RAVE.CA V17.0
X-WR-CALNAME:Cruz Control Live Radio Show
X-ORIGINAL-URL:https://www.rave.ca/event/18306/
VERSION:2.0
CALSCALE:GREGORIAN
METHOD:PUBLISH
BEGIN:VEVENT
DTSTAMP:20080412T171244Z
LAST-MODIFIED:20080412T171244Z
CREATED:20080112T115225Z
SEQUENCE:18306
ORGANIZER:Unknown
DTSTART:20080413T180000Z
DTEND:20080413T200000Z
UID:event_18306@rave.ca
SUMMARY:Cruz Control Live Radio Show
LOCATION:Unknown
URL:https://www.rave.ca/event/18306/
DESCRIPTION:. CRUZ CONTROL LIVE RADIO SHOW . \n\n\nEvery Sunday Evening !!  6 To 8 Pm !!\n\n\n\n............. http://dnb.techno.fm .............\n\n\n\n\nWith\, this week :\n\n\n\n+ 6 To 7 Pm > DJ KASDAL ( Electro/Dubstep ) http://www.quadbyte.net/\n\n\n+ 7 To 8 Pm > DJ YANKAT ( Electro/Break ) http://www.quadbyte.net/\n\n\n\n\nEnjoy !!
CLASS:PUBLIC
CATEGORIES:
STATUS:CONFIRMED
PARTSTAT:ACCEPTED
END:VEVENT
END:VCALENDAR
