BEGIN:VCALENDAR
PRODID:RAVE.CA V17.0
X-WR-CALNAME:Bob Bentley [UK], Chris Farley
X-ORIGINAL-URL:https://www.rave.ca/event/18103/
VERSION:2.0
CALSCALE:GREGORIAN
METHOD:PUBLISH
BEGIN:VEVENT
DTSTAMP:20071224T141702Z
LAST-MODIFIED:20071224T141702Z
CREATED:20071224T141617Z
SEQUENCE:18103
ORGANIZER:Unknown
DTSTART:19940623T220000Z
DTEND:19940623T220000Z
UID:event_18103@rave.ca
SUMMARY:Bob Bentley [UK]\, Chris Farley
LOCATION:Angels\, Club
URL:https://www.rave.ca/event/18103/
DESCRIPTION:Bob Bentley [UK]\nChris Farley
CLASS:PUBLIC
CATEGORIES:
STATUS:CONFIRMED
PARTSTAT:ACCEPTED
END:VEVENT
END:VCALENDAR
